BEGIN:VCALENDAR
VERSION:2.0
PRODID:-//Banque Alimentaire de Rouen et sa Région - ECPv6.15.20//NONSGML v1.0//EN
CALSCALE:GREGORIAN
METHOD:PUBLISH
X-WR-CALNAME:Banque Alimentaire de Rouen et sa Région
X-ORIGINAL-URL:https://www.barrouen.fr
X-WR-CALDESC:Évènements pour Banque Alimentaire de Rouen et sa Région
REFRESH-INTERVAL;VALUE=DURATION:PT1H
X-Robots-Tag:noindex
X-PUBLISHED-TTL:PT1H
BEGIN:VTIMEZONE
TZID:UTC
BEGIN:STANDARD
TZOFFSETFROM:+0000
TZOFFSETTO:+0000
TZNAME:UTC
DTSTART:20200101T000000
END:STANDARD
END:VTIMEZONE
BEGIN:VEVENT
DTSTART;VALUE=DATE:20211126
DTEND;VALUE=DATE:20211129
DTSTAMP:20260421T102809
CREATED:20210120T071547Z
LAST-MODIFIED:20211010T114503Z
UID:3688-1637884800-1638143999@www.barrouen.fr
SUMMARY:Collecte Nationale des 26\, 27 et 28 Novembre 2021 de la Banque Alimentaire de Rouen et sa Région
DESCRIPTION:Devenez Bénévole en cliquant ici\nVous pouvez nous aider en participant à cette collecte :\nNous avons besoin de vos coordonnées pour vous recontacter\nCliquez sur le bouton suivant :\nDevenir Bénévole pour la collecte
URL:https://www.barrouen.fr/evenement/collecte-de-printemps-de-la-banque-alimentaire-de-rouen-et-sa-region/
LOCATION:Seine-Maritime\, Seine-Maritime\, 76\, France
CATEGORIES:Collecte
END:VEVENT
END:VCALENDAR